BEGIN:VCALENDAR
VERSION:2.0
PRODID:-//wp-events-plugin.com//7.2.3.1//EN
TZID:Europe/Berlin
X-WR-TIMEZONE:Europe/Berlin
BEGIN:VEVENT
UID:71@flensburg-szene.de
DTSTART;TZID=Europe/Berlin:20260521T183000
DTEND;TZID=Europe/Berlin:20260521T203000
DTSTAMP:20260424T072411Z
URL:https://flensburg-szene.de/events/hartmut-koenig-kommt
SUMMARY:Hartmut König kommt
DESCRIPTION:\nEintritt frei\, freie Platzwahl\, Spenden nötig (Hutkonzert)
 \nEs wächst das Brot uns nicht von allein\, und auf den Feldern reift uns
  kein Krug voll Wein. Das Wasser fließt nicht von selbst bergauf\, und au
 ch die Kriege hören nicht von selber auf. Schön ist die Rose\, schön is
 t das Licht\, schön ist der Morgenwind\, schön ist dein Gesicht. Schön 
 ist die Welt\, wenn sie friedlich ist. Schön ist der Frieden\, wenn du se
 iner sicher bist. Hartmut König ist Mitbegründer der ersten deutschsprac
 higen DDR-Beatband TEAM 4 und des „Oktoberklubs“\, der "Singebewegung"
  der DDR\, Autor und Komponist zahlreicher Lieder: „Sag mir\, wo du steh
 st“ https://www.youtube.com/watch?v=Ygco9KChKnA\;\n\nEr schrieb die Song
 texte für den DEFA-Film „Heißer Sommer". Er studierte Journalistik in 
 Leipzig\, 1974 Promotion\; Seit 1973 arbeitete er in Prag als Chefredakteu
 r der „World Student News“\, danach von 1976 bis 1989 in Berlin als Se
 kretär des Zentralrates der FDJ. Er wurde 1989 stellvertretender Kulturmi
 nister der DDR. Engagement für den Frieden: Hartmut König war 1982 bis 1
 986 Vizepräsident des Friedensrates der DDR. Als Ostdeutscher und Frieden
 saktivist wird er von unseren westlichen öffentlich rechtlichen Qualität
 ssendern weitgehend boykottiert. Aber wir bieten hier die Gelegenheit zur 
 persönlichen Begegnung. Wir nutzen diese Veranstaltung\, um Friedensfähi
 gkeit zu zeigen\, die der Kriegslust der Regierenden entgegensteht. Selbst
 verständlich erklingt an diesem Abend seine Musik. Hartmut König hat ein
  Programm mit alten und neuen Songs zusammengestellt.\n\nHartmut König ht
 tps://www.unsere-zeit.de/der-verfluchte-drang-zum-krieg-4805931/ Militaris
 ierung im Äußeren greift auch ins Innere: Der verfluchte Drang zum Krieg
  „Kriegstüchtig werden!“ – Die ärgsten Schreihälse aus Politik\, 
 Rüstungsindustrie und ihrem medialen Echo würden am Tage X in keinem Sch
 ützengraben liegen\, das Elendsgemisch von Pulver- und Leichengestank nic
 ht einatmen\, ihre Söhne ins neutrale Ausland geschickt und vorsorglich d
 amit begonnen haben\, ihre Exkulpationsstrategien zu entwerfen. Was sind d
 as für Leute\, für die Kriegstüchtigkeit heißt\, nach einer verbessert
 en „materiellen und kulturellen Tötungstechnologie“ zu suchen? Für d
 ie ältere Generation\, noch geprägt von den grauenhaften Kriegserfahrung
 en ihrer Eltern oder Großeltern\, sei das „Nie wieder“ noch eine „s
 ehr starke Denk- und Seinsform“ gewesen.\n\nNun stehe eine neue Generati
 on in Verantwortungspositionen\, der Krieg als aseptische Bildschirmersche
 inung begegnet. Wie sonst hätten sich in der bundesdeutschen Gesellschaft
  Verhältnisse stauen können\, die der heranwachsenden bürgerlichen Poli
 t-Elite jene Kälte anerzog\, mit der sie heute bereit ist\, aus dem „Ni
 e wieder“ ein „Wieder“ zu formen? ....Militarisierung im Äußeren d
 rängt mit Macht auch ins Innere. Aggressivität nach draußen braucht Akz
 eptanz oder wenigstens Gleichgültigkeit im Lande. ....\n\nFoto: Presse Ha
 rtmut König
ATTACH;FMTTYPE=image/jpeg:https://flensburg-szene.de/wp-content/uploads/20
 26/04/koenig-e1777015431492.jpg
CATEGORIES:Live-Konzerte
LOCATION:eex-Sultanmarkt\,  Neustadt 26\, Flensburg\, Schleswig-Holstein\, 
 24939\, Deutschland
X-APPLE-STRUCTURED-LOCATION;VALUE=URI;X-ADDRESS= Neustadt 26\, Flensburg\, 
 Schleswig-Holstein\, 24939\, Deutschland;X-APPLE-RADIUS=100;X-TITLE=eex-Su
 ltanmarkt:geo:0,0
END:VEVENT
BEGIN:VTIMEZONE
TZID:Europe/Berlin
X-LIC-LOCATION:Europe/Berlin
BEGIN:DAYLIGHT
DTSTART:20260329T030000
TZOFFSETFROM:+0100
TZOFFSETTO:+0200
TZNAME:CEST
END:DAYLIGHT
END:VTIMEZONE
END:VCALENDAR