BEGIN:VCALENDAR
VERSION:2.0
PRODID:-//wp-events-plugin.com//7.2.3.1//EN
TZID:Europe/Berlin
X-WR-TIMEZONE:Europe/Berlin
BEGIN:VEVENT
UID:63@flensburg-szene.de
DTSTART;TZID=Europe/Berlin:20260422T190000
DTEND;TZID=Europe/Berlin:20260422T210000
DTSTAMP:20260416T120313Z
URL:https://flensburg-szene.de/events/achtsam-geht-die-welt-zugrunde-buchp
 remiere-in-unewatt
SUMMARY:Achtsam geht die Welt zugrunde – Buchpremiere in Unewatt
DESCRIPTION:\n\nMeditation\, Journaling\, Atemübungen – immer mehr Mensc
 hen nutzen Achtsamkeitspraktiken als Zuflucht vor den Krisen unserer Zeit.
  Doch statt zu mehr Ruhe und innerer Stärke zu führen\, treiben diese Te
 chniken nicht selten noch tiefer hinein in das Hamsterrad aus Selbstoptimi
 erung und Erschöpfung. Achtsamkeit ist längst nicht mehr bloß eine pers
 önliche Praxis\, sondern hat sich zur Ideologie entwickelt\, die gesellsc
 haftliche Missstände individualisiert\, negative Gefühle als unzulässig
  darstellt und die Gesellschaft weiter spaltet.\n\nScharfsinnig seziert Ka
 thrin Fischer\, ehemalige Pressesprecherin der EUF und Host des Podcasts 
 „Erschöpfung statt Gelassenheit“\, den Achtsamkeitstrend und plädier
 t dafür\, sich nicht länger ins Private zurückzuziehen\, sondern gemein
 sam eine gerechtere Zukunft zu gestalten.\n\n„„Ein glänzendes Stück 
 Aufklärung.“ (Harald Welzer)\n\nBuchpremiere von „Achtsam geht die We
 lt zugrunde“ in Unewatt: Kathrin Fischer im Gespräch mit Conny Clausen 
 Mittwoch\, 22.4.2026\, 19:00 Uhr\, Christesenhaus\, Abendkasse 18€ / 15
 € (ERMÄSSIGT)\n\nFoto: Presse Kathrin Fischer\,
ATTACH;FMTTYPE=image/jpeg:https://flensburg-szene.de/wp-content/uploads/20
 26/04/20241219_Kathrin_Fischer_0285.jpg
CATEGORIES:Sonstiges
LOCATION:Landschaftsmuseum\, Unewatter Straße 1a \, Unewatt\, 24947\, Deut
 schland
X-APPLE-STRUCTURED-LOCATION;VALUE=URI;X-ADDRESS=Unewatter Straße 1a \, Une
 watt\, 24947\, Deutschland;X-APPLE-RADIUS=100;X-TITLE=Landschaftsmuseum:ge
 o:0,0
END:VEVENT
BEGIN:VTIMEZONE
TZID:Europe/Berlin
X-LIC-LOCATION:Europe/Berlin
BEGIN:DAYLIGHT
DTSTART:20260329T030000
TZOFFSETFROM:+0100
TZOFFSETTO:+0200
TZNAME:CEST
END:DAYLIGHT
END:VTIMEZONE
END:VCALENDAR